BEGIN:VCALENDAR
VERSION:2.0
PRODID:-//Zussjan - ECPv6.15.13.1//NONSGML v1.0//EN
CALSCALE:GREGORIAN
METHOD:PUBLISH
X-WR-CALNAME:Zussjan
X-ORIGINAL-URL:https://www.zussjan.nl
X-WR-CALDESC:Evenementen voor Zussjan
REFRESH-INTERVAL;VALUE=DURATION:PT1H
X-Robots-Tag:noindex
X-PUBLISHED-TTL:PT1H
BEGIN:VTIMEZONE
TZID:UTC
BEGIN:STANDARD
TZOFFSETFROM:+0000
TZOFFSETTO:+0000
TZNAME:UTC
DTSTART:20240101T000000
END:STANDARD
END:VTIMEZONE
BEGIN:VEVENT
DTSTART;TZID=UTC:20250216T143000
DTEND;TZID=UTC:20250216T170000
DTSTAMP:20260419T130459
CREATED:20241215T154225Z
LAST-MODIFIED:20241215T154325Z
UID:1868-1739716200-1739725200@www.zussjan.nl
SUMMARY:Met Prins Ricardo d'n urste naar Milsbeek
DESCRIPTION:We vergezellen Prins Ricardo naar de prinsenreceptie in Milsbeek.
URL:https://www.zussjan.nl/event/met-prins-ricardo-dn-urste-naar-milsbeek/
LOCATION:Trefpunt Milsbeek\, kerkstraat 31\, milsbeek\, 6596AK\, Netherlands
END:VEVENT
BEGIN:VEVENT
DTSTART;TZID=UTC:20250222T200000
DTEND;TZID=UTC:20250222T230000
DTSTAMP:20260419T130459
CREATED:20241215T154612Z
LAST-MODIFIED:20241215T154612Z
UID:1871-1740254400-1740265200@www.zussjan.nl
SUMMARY:Receptie Prins Ricardo Mook
DESCRIPTION:Ook bij Prins Ricardo blazen we de stoppen er weer uit!
URL:https://www.zussjan.nl/event/receptie-prins-ricardo-mook/
LOCATION:Gemeenschapshuis Mook (Moks café)\, MOOK\, 6585WK
END:VEVENT
BEGIN:VEVENT
DTSTART;TZID=UTC:20250223T140000
DTEND;TZID=UTC:20250223T170000
DTSTAMP:20260419T130459
CREATED:20241215T154847Z
LAST-MODIFIED:20241215T154847Z
UID:1873-1740319200-1740330000@www.zussjan.nl
SUMMARY:Receptie Prins Nick d'n Urste
DESCRIPTION:We feliciteren Prins Nick d’n Urste en zijn gevolg op zijn prinsenreceptie.
URL:https://www.zussjan.nl/event/receptie-prins-nick-dn-urste/
LOCATION:Gemeenschapshuis Mook (Moks café)\, MOOK\, 6585WK
END:VEVENT
END:VCALENDAR