BEGIN:VCALENDAR
VERSION:2.0
PRODID:-//Zussjan - ECPv6.15.13.1//NONSGML v1.0//EN
CALSCALE:GREGORIAN
METHOD:PUBLISH
X-WR-CALNAME:Zussjan
X-ORIGINAL-URL:https://www.zussjan.nl
X-WR-CALDESC:Evenementen voor Zussjan
REFRESH-INTERVAL;VALUE=DURATION:PT1H
X-Robots-Tag:noindex
X-PUBLISHED-TTL:PT1H
BEGIN:VTIMEZONE
TZID:UTC
BEGIN:STANDARD
TZOFFSETFROM:+0000
TZOFFSETTO:+0000
TZNAME:UTC
DTSTART:20240101T000000
END:STANDARD
END:VTIMEZONE
BEGIN:VEVENT
DTSTART;TZID=UTC:20250713T123000
DTEND;TZID=UTC:20250713T170000
DTSTAMP:20260419T173542
CREATED:20250712T162954Z
LAST-MODIFIED:20250712T163112Z
UID:1892-1752409800-1752426000@www.zussjan.nl
SUMMARY:4-daagse 2025
DESCRIPTION:We zijn weer van de partij op de 4-daagse feesten in de Nijmeegse binnenstad! \n13:30 Molenstraat \n14:30 Hertogstraat \n15:30 Burchtstraat \n16:30 Broerstraat \n 
URL:https://www.zussjan.nl/event/4-daagse-2025/
LOCATION:Binnenstad Nijmegen\, Plein 44\, Nijmegen\, 6511\, Nederland
END:VEVENT
END:VCALENDAR